BEGIN:VCALENDAR
VERSION:2.0
PRODID:-//jEvents 2.0 for Joomla//EN
CALSCALE:GREGORIAN
METHOD:PUBLISH
BEGIN:VTIMEZONE
TZID:Europe/Berlin
BEGIN:STANDARD
DTSTART:20251026T020000
RDATE:20260329T030000
TZOFFSETFROM:+0200
TZOFFSETTO:+0100
TZNAME:Europe/Berlin CET
END:STANDARD
BEGIN:STANDARD
DTSTART:20261025T020000
RDATE:20270328T030000
TZOFFSETFROM:+0200
TZOFFSETTO:+0100
TZNAME:Europe/Berlin CET
END:STANDARD
BEGIN:STANDARD
DTSTART:20271031T020000
RDATE:20280326T030000
TZOFFSETFROM:+0200
TZOFFSETTO:+0100
TZNAME:Europe/Berlin CET
END:STANDARD
BEGIN:STANDARD
DTSTART:20281029T020000
RDATE:20290325T030000
TZOFFSETFROM:+0200
TZOFFSETTO:+0100
TZNAME:Europe/Berlin CET
END:STANDARD
BEGIN:STANDARD
DTSTART:20291028T020000
RDATE:20300331T030000
TZOFFSETFROM:+0200
TZOFFSETTO:+0100
TZNAME:Europe/Berlin CET
END:STANDARD
BEGIN:STANDARD
DTSTART:20301027T020000
RDATE:20310330T030000
TZOFFSETFROM:+0200
TZOFFSETTO:+0100
TZNAME:Europe/Berlin CET
END:STANDARD
BEGIN:STANDARD
DTSTART:20311026T020000
RDATE:20320328T030000
TZOFFSETFROM:+0200
TZOFFSETTO:+0100
TZNAME:Europe/Berlin CET
END:STANDARD
BEGIN:DAYLIGHT
DTSTART:20250626T000000
RDATE:20251026T020000
TZOFFSETFROM:+0100
TZOFFSETTO:+0200
TZNAME:Europe/Berlin CEST
END:DAYLIGHT
BEGIN:DAYLIGHT
DTSTART:20260329T030000
RDATE:20261025T020000
TZOFFSETFROM:+0100
TZOFFSETTO:+0200
TZNAME:Europe/Berlin CEST
END:DAYLIGHT
BEGIN:DAYLIGHT
DTSTART:20270328T030000
RDATE:20271031T020000
TZOFFSETFROM:+0100
TZOFFSETTO:+0200
TZNAME:Europe/Berlin CEST
END:DAYLIGHT
BEGIN:DAYLIGHT
DTSTART:20280326T030000
RDATE:20281029T020000
TZOFFSETFROM:+0100
TZOFFSETTO:+0200
TZNAME:Europe/Berlin CEST
END:DAYLIGHT
BEGIN:DAYLIGHT
DTSTART:20290325T030000
RDATE:20291028T020000
TZOFFSETFROM:+0100
TZOFFSETTO:+0200
TZNAME:Europe/Berlin CEST
END:DAYLIGHT
BEGIN:DAYLIGHT
DTSTART:20300331T030000
RDATE:20301027T020000
TZOFFSETFROM:+0100
TZOFFSETTO:+0200
TZNAME:Europe/Berlin CEST
END:DAYLIGHT
BEGIN:DAYLIGHT
DTSTART:20310330T030000
RDATE:20311026T020000
TZOFFSETFROM:+0100
TZOFFSETTO:+0200
TZNAME:Europe/Berlin CEST
END:DAYLIGHT
END:VTIMEZONE
BEGIN:VEVENT
UID:bb2de561e58503f6031114dbc6132512
CATEGORIES:Vereine, WSJ Export Vereinstermine
CREATED:20260421T185223
SUMMARY:Schachtraining mit "The Big Greek"
LOCATION:Adlergebäude\, Illertissen
URL;VALUE=URI:https://www.svw.info/termine/eventdetail/1195/-/schachtraining-mit-the-big-
 greek?tmpl=component
DESCRIPTION:<p><strong>Auswahl Bereich</strong> : Oberschwaben<br /><strong>Veranstalte
 r</strong> : SV Jedesheim<br /><strong>Beschreibung des Events</strong> : B
 eim Jedesheimer Schachwochenende anläßlich des 30. Jedesheimer Jugendopen s
 teht am Samstag ein Schachtraining und Simultan mit "The Big Greek" auf dem
  Programm.<br /><strong>Themen</strong>:<br />Block 1: Variantenberechnung 
 anhand von Studien<br />Block 2: Anti-Sizilianer: Rossoimo (Lb5+)<br />Daue
 r: 10 - 13 Uhr, anschließend Simultan an 30 Brettern<br />Die Plätze sind b
 egrenzt, bitte voranmelden! Kosten 20€ für Schachtraining und Platz beim Si
 multan.<br /><strong>Veranstaltung Ort</strong> : Adler-Gebäude Illertissen
 <br />Link zur <a href="images/stories/Terminkalender/2026_06/Schach-Wochen
 ende-Jedesheim-2026.pdf"><strong>Ausschreibung</strong></a></p> <a href="ht
 tps://www.svw.info/termine/eventdetail/1195/-/schachtraining-mit-the-big-gr
 eek?tmpl=component">Dieser Event wurde importiert von: https://www.svw.info
 /termine/eventdetail/1195/-/schachtraining-mit-the-big-greek?tmpl=component
 </a>
X-ALT-DESC;FMTTYPE=text/html:<p><strong>Auswahl Bereich</strong> : Oberschwaben<br /><strong>Veranstalte
 r</strong> : SV Jedesheim<br /><strong>Beschreibung des Events</strong> : B
 eim Jedesheimer Schachwochenende anläßlich des 30. Jedesheimer Jugendopen s
 teht am Samstag ein Schachtraining und Simultan mit "The Big Greek" auf dem
  Programm.<br /><strong>Themen</strong>:<br />Block 1: Variantenberechnung 
 anhand von Studien<br />Block 2: Anti-Sizilianer: Rossoimo (Lb5+)<br />Daue
 r: 10 - 13 Uhr, anschließend Simultan an 30 Brettern<br />Die Plätze sind b
 egrenzt, bitte voranmelden! Kosten 20€ für Schachtraining und Platz beim Si
 multan.<br /><strong>Veranstaltung Ort</strong> : Adler-Gebäude Illertissen
 <br />Link zur <a href="https://www.svw.info/images/stories/Terminkalender/
 2026_06/Schach-Wochenende-Jedesheim-2026.pdf"><strong>Ausschreibung</strong
 ></a></p> <a href="https://www.svw.info/termine/eventdetail/1195/-/schachtr
 aining-mit-the-big-greek?tmpl=component">Dieser Event wurde importiert von:
  https://www.svw.info/termine/eventdetail/1195/-/schachtraining-mit-the-big
 -greek?tmpl=component</a>CONTACT:Diese E-Mail-Adresse ist vor Spambots geschützt! Zur Anzeige muss JavaScript eingeschaltet sein.
DTSTAMP:20260423T004751
DTSTART;TZID=Europe/Berlin;VALUE=DATE:20260627
DTEND;TZID=Europe/Berlin;VALUE=DATE:20260628
SEQUENCE:0
TRANSP:OPAQUE
END:VEVENT
END:VCALENDAR