BEGIN:VCALENDAR
VERSION:2.0
PRODID:-//jEvents 2.0 for Joomla//EN
CALSCALE:GREGORIAN
METHOD:PUBLISH
BEGIN:VTIMEZONE
TZID:Europe/Berlin
BEGIN:STANDARD
DTSTART:20251026T020000
RDATE:20260329T030000
TZOFFSETFROM:+0200
TZOFFSETTO:+0100
TZNAME:Europe/Berlin CET
END:STANDARD
BEGIN:STANDARD
DTSTART:20261025T020000
RDATE:20270328T030000
TZOFFSETFROM:+0200
TZOFFSETTO:+0100
TZNAME:Europe/Berlin CET
END:STANDARD
BEGIN:STANDARD
DTSTART:20271031T020000
RDATE:20280326T030000
TZOFFSETFROM:+0200
TZOFFSETTO:+0100
TZNAME:Europe/Berlin CET
END:STANDARD
BEGIN:STANDARD
DTSTART:20281029T020000
RDATE:20290325T030000
TZOFFSETFROM:+0200
TZOFFSETTO:+0100
TZNAME:Europe/Berlin CET
END:STANDARD
BEGIN:STANDARD
DTSTART:20291028T020000
RDATE:20300331T030000
TZOFFSETFROM:+0200
TZOFFSETTO:+0100
TZNAME:Europe/Berlin CET
END:STANDARD
BEGIN:STANDARD
DTSTART:20301027T020000
RDATE:20310330T030000
TZOFFSETFROM:+0200
TZOFFSETTO:+0100
TZNAME:Europe/Berlin CET
END:STANDARD
BEGIN:STANDARD
DTSTART:20311026T020000
RDATE:20320328T030000
TZOFFSETFROM:+0200
TZOFFSETTO:+0100
TZNAME:Europe/Berlin CET
END:STANDARD
BEGIN:DAYLIGHT
DTSTART:20250625T000000
RDATE:20251026T020000
TZOFFSETFROM:+0100
TZOFFSETTO:+0200
TZNAME:Europe/Berlin CEST
END:DAYLIGHT
BEGIN:DAYLIGHT
DTSTART:20260329T030000
RDATE:20261025T020000
TZOFFSETFROM:+0100
TZOFFSETTO:+0200
TZNAME:Europe/Berlin CEST
END:DAYLIGHT
BEGIN:DAYLIGHT
DTSTART:20270328T030000
RDATE:20271031T020000
TZOFFSETFROM:+0100
TZOFFSETTO:+0200
TZNAME:Europe/Berlin CEST
END:DAYLIGHT
BEGIN:DAYLIGHT
DTSTART:20280326T030000
RDATE:20281029T020000
TZOFFSETFROM:+0100
TZOFFSETTO:+0200
TZNAME:Europe/Berlin CEST
END:DAYLIGHT
BEGIN:DAYLIGHT
DTSTART:20290325T030000
RDATE:20291028T020000
TZOFFSETFROM:+0100
TZOFFSETTO:+0200
TZNAME:Europe/Berlin CEST
END:DAYLIGHT
BEGIN:DAYLIGHT
DTSTART:20300331T030000
RDATE:20301027T020000
TZOFFSETFROM:+0100
TZOFFSETTO:+0200
TZNAME:Europe/Berlin CEST
END:DAYLIGHT
BEGIN:DAYLIGHT
DTSTART:20310330T030000
RDATE:20311026T020000
TZOFFSETFROM:+0100
TZOFFSETTO:+0200
TZNAME:Europe/Berlin CEST
END:DAYLIGHT
END:VTIMEZONE
BEGIN:VEVENT
UID:c0736b1dd478e9e4da7d093e9ee39a7c
CATEGORIES:Vereine
CREATED:20260421T180334
SUMMARY:Meet the Greek - mit Georgios Souleidis
LOCATION:Diese E-Mail-Adresse ist vor Spambots geschützt! Zur Anzeige muss JavaScrip
 t eingeschaltet sein.
URL;VALUE=URI:https://www.svw.info/termine/eventdetail/1194/-/meet-the-greek-mit-georgios
 -souleidis?tmpl=component
DESCRIPTION:<p><strong>Zielgruppe</strong> : Erwachsene<br /><strong>Auswahl Bereich</s
 trong> : Oberschwaben<br /><strong>Veranstalter</strong> : SV Jedesheim<br 
 /><strong>Beschreibung des Events</strong> : MEET THE GREEK - Georgios Soul
 eidis erzählt: Wie er zum Schach gekommen ist, wie er Influencer wurde <br 
 />und berichtet über Geschichten, Anekdoten, Partien aus der Welt des Schac
 hs.<br /><strong>Beginn</strong>: 19:30 Uhr, Ende: ca. 22:00 Uhr<br /><stro
 ng>Veranstaltung Ort</strong> : Adler-Gebäude Illertissen<br />Mehr Infos :
  <a href="https://schach-jedesheim.de/" target="_blank" rel="noopener">http
 s://schach-jedesheim.de/ </a>oder <a href="images/stories/Terminkalender/20
 26_06/Schach-Wochenende-Jedesheim-2026.pdf" rel="noopener">Flyer</a></p> <a
  href="https://www.svw.info/termine/eventdetail/1194/-/meet-the-greek-mit-g
 eorgios-souleidis?tmpl=component">Dieser Event wurde importiert von: https:
 //www.svw.info/termine/eventdetail/1194/-/meet-the-greek-mit-georgios-soule
 idis?tmpl=component</a>
X-ALT-DESC;FMTTYPE=text/html:<p><strong>Zielgruppe</strong> : Erwachsene<br /><strong>Auswahl Bereich</s
 trong> : Oberschwaben<br /><strong>Veranstalter</strong> : SV Jedesheim<br 
 /><strong>Beschreibung des Events</strong> : MEET THE GREEK - Georgios Soul
 eidis erzählt: Wie er zum Schach gekommen ist, wie er Influencer wurde <br 
 />und berichtet über Geschichten, Anekdoten, Partien aus der Welt des Schac
 hs.<br /><strong>Beginn</strong>: 19:30 Uhr, Ende: ca. 22:00 Uhr<br /><stro
 ng>Veranstaltung Ort</strong> : Adler-Gebäude Illertissen<br />Mehr Infos :
  <a href="https://schach-jedesheim.de/" target="_blank" rel="noopener">http
 s://schach-jedesheim.de/ </a>oder <a href="https://www.svw.info/images/stor
 ies/Terminkalender/2026_06/Schach-Wochenende-Jedesheim-2026.pdf" rel="noope
 ner">Flyer</a></p> <a href="https://www.svw.info/termine/eventdetail/1194/-
 /meet-the-greek-mit-georgios-souleidis?tmpl=component">Dieser Event wurde i
 mportiert von: https://www.svw.info/termine/eventdetail/1194/-/meet-the-gre
 ek-mit-georgios-souleidis?tmpl=component</a>CONTACT:Adlergebäude Illertissen
DTSTAMP:20260423T004748
DTSTART;TZID=Europe/Berlin;VALUE=DATE:20260626
DTEND;TZID=Europe/Berlin;VALUE=DATE:20260627
SEQUENCE:0
TRANSP:OPAQUE
END:VEVENT
END:VCALENDAR