BEGIN:VCALENDAR
VERSION:2.0
PRODID:-//jEvents 2.0 for Joomla//EN
CALSCALE:GREGORIAN
METHOD:PUBLISH
BEGIN:VTIMEZONE
TZID:Europe/Berlin
BEGIN:STANDARD
DTSTART:20251026T020000
RDATE:20260329T030000
TZOFFSETFROM:+0200
TZOFFSETTO:+0100
TZNAME:Europe/Berlin CET
END:STANDARD
BEGIN:STANDARD
DTSTART:20261025T020000
RDATE:20270328T030000
TZOFFSETFROM:+0200
TZOFFSETTO:+0100
TZNAME:Europe/Berlin CET
END:STANDARD
BEGIN:STANDARD
DTSTART:20271031T020000
RDATE:20280326T030000
TZOFFSETFROM:+0200
TZOFFSETTO:+0100
TZNAME:Europe/Berlin CET
END:STANDARD
BEGIN:STANDARD
DTSTART:20281029T020000
RDATE:20290325T030000
TZOFFSETFROM:+0200
TZOFFSETTO:+0100
TZNAME:Europe/Berlin CET
END:STANDARD
BEGIN:STANDARD
DTSTART:20291028T020000
RDATE:20300331T030000
TZOFFSETFROM:+0200
TZOFFSETTO:+0100
TZNAME:Europe/Berlin CET
END:STANDARD
BEGIN:STANDARD
DTSTART:20301027T020000
RDATE:20310330T030000
TZOFFSETFROM:+0200
TZOFFSETTO:+0100
TZNAME:Europe/Berlin CET
END:STANDARD
BEGIN:STANDARD
DTSTART:20311026T020000
RDATE:20320328T030000
TZOFFSETFROM:+0200
TZOFFSETTO:+0100
TZNAME:Europe/Berlin CET
END:STANDARD
BEGIN:DAYLIGHT
DTSTART:20250626T000000
RDATE:20251026T020000
TZOFFSETFROM:+0100
TZOFFSETTO:+0200
TZNAME:Europe/Berlin CEST
END:DAYLIGHT
BEGIN:DAYLIGHT
DTSTART:20260329T030000
RDATE:20261025T020000
TZOFFSETFROM:+0100
TZOFFSETTO:+0200
TZNAME:Europe/Berlin CEST
END:DAYLIGHT
BEGIN:DAYLIGHT
DTSTART:20270328T030000
RDATE:20271031T020000
TZOFFSETFROM:+0100
TZOFFSETTO:+0200
TZNAME:Europe/Berlin CEST
END:DAYLIGHT
BEGIN:DAYLIGHT
DTSTART:20280326T030000
RDATE:20281029T020000
TZOFFSETFROM:+0100
TZOFFSETTO:+0200
TZNAME:Europe/Berlin CEST
END:DAYLIGHT
BEGIN:DAYLIGHT
DTSTART:20290325T030000
RDATE:20291028T020000
TZOFFSETFROM:+0100
TZOFFSETTO:+0200
TZNAME:Europe/Berlin CEST
END:DAYLIGHT
BEGIN:DAYLIGHT
DTSTART:20300331T030000
RDATE:20301027T020000
TZOFFSETFROM:+0100
TZOFFSETTO:+0200
TZNAME:Europe/Berlin CEST
END:DAYLIGHT
BEGIN:DAYLIGHT
DTSTART:20310330T030000
RDATE:20311026T020000
TZOFFSETFROM:+0100
TZOFFSETTO:+0200
TZNAME:Europe/Berlin CEST
END:DAYLIGHT
END:VTIMEZONE
BEGIN:VEVENT
UID:c1645af9ce183979113d7bcd93964605
CATEGORIES:Vereine, WSJ Export Vereinstermine
CREATED:20260421T185919
SUMMARY:Simultan mit "The Big Greek"
LOCATION:Adler-Gebäude Illertissen
URL;VALUE=URI:https://www.svw.info/component/jevents/eventdetail/1196/-/simultan-mit-the-
 big-greek?Itemid=10&amp;tmpl=component
DESCRIPTION:Beschreibung des Events : Beim Jedesheimer Schachwochenende anläßlich des 3
 0. Jedesheimer Jugendopen steht am Samstag ein Schachtraining und Simultan 
 mit "The Big Greek" auf dem Programm.\nSimultan an 30 Brettern\nDie Plätze 
 sind begrenzt, bitte voranmelden! Kosten 20€ für Schachtraining und Platz b
 eim Simultan.\nVeranstaltung Ort : Adler-Gebäude Illertissen\nLink zur Auss
 chreibung (images/stories/Terminkalender/2026_06/Schach-Wochenende-Jedeshei
 m-2026.pdf) \n\n\n Dieser Event wurde importiert von: https://www.svw.info/
 component/jevents/eventdetail/1196/-/simultan-mit-the-big-greek?Itemid=10&a
 mp;tmpl=component
X-ALT-DESC;FMTTYPE=text/html:<p><strong>Beschreibung des Events</strong> : Beim Jedesheimer Schachwochen
 ende anläßlich des 30. Jedesheimer Jugendopen steht am Samstag ein Schachtr
 aining und Simultan mit <strong>"The Big Greek"</strong> auf dem Programm.<
 br />Simultan an 30 Brettern<br />Die Plätze sind begrenzt, bitte voranmeld
 en! Kosten 20€ für Schachtraining und Platz beim Simultan.<br /><strong>Ver
 anstaltung Ort</strong> : Adler-Gebäude Illertissen<br />Link zur <a href="
 https://www.svw.info/images/stories/Terminkalender/2026_06/Schach-Wochenend
 e-Jedesheim-2026.pdf"><strong>Ausschreibung</strong></a> <br /><br /></p> <
 a href="https://www.svw.info/component/jevents/eventdetail/1196/-/simultan-
 mit-the-big-greek?Itemid=10&amp;tmpl=component">Dieser Event wurde importie
 rt von: https://www.svw.info/component/jevents/eventdetail/1196/-/simultan-
 mit-the-big-greek?Itemid=10&amp;tmpl=component</a>CONTACT:Diese E-Mail-Adresse ist vor Spambots geschützt! Zur Anzeige muss JavaScript eingeschaltet sein.
DTSTAMP:20260421T202402
DTSTART;TZID=Europe/Berlin;VALUE=DATE:20260627
DTEND;TZID=Europe/Berlin;VALUE=DATE:20260628
SEQUENCE:0
TRANSP:OPAQUE
END:VEVENT
END:VCALENDAR