BEGIN:VCALENDAR
VERSION:2.0
PRODID:-//jEvents 2.0 for Joomla//EN
CALSCALE:GREGORIAN
METHOD:PUBLISH
BEGIN:VTIMEZONE
TZID:Europe/Berlin
BEGIN:STANDARD
DTSTART:20251026T020000
RDATE:20260329T030000
TZOFFSETFROM:+0200
TZOFFSETTO:+0100
TZNAME:Europe/Berlin CET
END:STANDARD
BEGIN:STANDARD
DTSTART:20261025T020000
RDATE:20270328T030000
TZOFFSETFROM:+0200
TZOFFSETTO:+0100
TZNAME:Europe/Berlin CET
END:STANDARD
BEGIN:STANDARD
DTSTART:20271031T020000
RDATE:20280326T030000
TZOFFSETFROM:+0200
TZOFFSETTO:+0100
TZNAME:Europe/Berlin CET
END:STANDARD
BEGIN:STANDARD
DTSTART:20281029T020000
RDATE:20290325T030000
TZOFFSETFROM:+0200
TZOFFSETTO:+0100
TZNAME:Europe/Berlin CET
END:STANDARD
BEGIN:STANDARD
DTSTART:20291028T020000
RDATE:20300331T030000
TZOFFSETFROM:+0200
TZOFFSETTO:+0100
TZNAME:Europe/Berlin CET
END:STANDARD
BEGIN:STANDARD
DTSTART:20301027T020000
RDATE:20310330T030000
TZOFFSETFROM:+0200
TZOFFSETTO:+0100
TZNAME:Europe/Berlin CET
END:STANDARD
BEGIN:STANDARD
DTSTART:20311026T020000
RDATE:20320328T030000
TZOFFSETFROM:+0200
TZOFFSETTO:+0100
TZNAME:Europe/Berlin CET
END:STANDARD
BEGIN:DAYLIGHT
DTSTART:20250627T000000
RDATE:20251026T020000
TZOFFSETFROM:+0100
TZOFFSETTO:+0200
TZNAME:Europe/Berlin CEST
END:DAYLIGHT
BEGIN:DAYLIGHT
DTSTART:20260329T030000
RDATE:20261025T020000
TZOFFSETFROM:+0100
TZOFFSETTO:+0200
TZNAME:Europe/Berlin CEST
END:DAYLIGHT
BEGIN:DAYLIGHT
DTSTART:20270328T030000
RDATE:20271031T020000
TZOFFSETFROM:+0100
TZOFFSETTO:+0200
TZNAME:Europe/Berlin CEST
END:DAYLIGHT
BEGIN:DAYLIGHT
DTSTART:20280326T030000
RDATE:20281029T020000
TZOFFSETFROM:+0100
TZOFFSETTO:+0200
TZNAME:Europe/Berlin CEST
END:DAYLIGHT
BEGIN:DAYLIGHT
DTSTART:20290325T030000
RDATE:20291028T020000
TZOFFSETFROM:+0100
TZOFFSETTO:+0200
TZNAME:Europe/Berlin CEST
END:DAYLIGHT
BEGIN:DAYLIGHT
DTSTART:20300331T030000
RDATE:20301027T020000
TZOFFSETFROM:+0100
TZOFFSETTO:+0200
TZNAME:Europe/Berlin CEST
END:DAYLIGHT
BEGIN:DAYLIGHT
DTSTART:20310330T030000
RDATE:20311026T020000
TZOFFSETFROM:+0100
TZOFFSETTO:+0200
TZNAME:Europe/Berlin CEST
END:DAYLIGHT
END:VTIMEZONE
BEGIN:VEVENT
UID:6609a0c4adee809bc0186c77b839f24b
CATEGORIES:Vereine, WSJ Export Vereinstermine
CREATED:20260419T145514
SUMMARY:30. Jedesheimer Jubiläums-Jugendturnier
LOCATION:Gemeindehalle Jedesheim\, Am Anger 10A\, 89257 Illertissen
URL;VALUE=URI:https://www.svw.info/component/jevents/eventdetail/1192/-/30-jedesheimer-ju
 bilaeums-jugendturnier?Itemid=10&amp;tmpl=component
DESCRIPTION:Beschreibung des Events : Schirmherr: 1. Bürgermeister der Stadt Illertisse
 n Jürgen Eisen\n\nOrt: Gemeindehalle Jedesheim, Am Anger 10A, 89257 Illerti
 ssen\nAnfahrt mit dem Auto: BAB A7 (Ulm - Memmingen), AA Illertissen\nAnfah
 rt mit dem Zug: Bahnhof Illertissen (Abholdienst möglich)\n\nTermin: Sonnta
 g, 28. Juni 2026 10.00 – 17.00 Uhr, Einschreibung am Spieltag: 9.00 – 9.45 
 Uhr \n\nAltersklassen: U18 (Jahrgang 2008 und 2009) U12 (Jahrgang 2014 und 
 2015)\nU16 (Jahrgang 2010 und 2011) U10 (Jahrgang 2016 und 2017)\nU14 (Jahr
 gang 2012 und 2013) U 8 (Jahrgang 2018 und jünger)\n\nNeu: Über 18: Offen f
 ür Alle - Betreuer, ehemalige Teilnehmer\n\nModus: 7 Runden CH-System – 12 
 min + 3 sec. Schnellschach\n\nStartgeld: 10 € bei Voranmeldung, 12 € ohne V
 oranmeldung am Sonntag\nÜberweisung: IBAN: DE11630901000716480018, BIC: ULM
 VDE66\n\nPreise: Pokale für die für die jeweiligen Sieger, Sachpreise für a
 lle Teilnehmer\n\nInfo: Bernhard Jehle, Tel. 07309-7999, Mail an: Diese E-M
 ail-Adresse ist vor Spambots geschützt! Zur Anzeige muss JavaScript eingesc
 haltet sein. oder auf unserer Homepage: www.schach-jedesheim.de\n\nGäste: G
 eorgios Souleidis – The Big Greek Internationaler Schachmeister, YouTuber, 
 Content Creator und leidenschaftlicher Botschafter des königlichen Spiels. 
 \nGM Artur Jussupow: Schachgroßmeister und Autor der Tigersprung-Serie \n\n
 \n Dieser Event wurde importiert von: https://www.svw.info/component/jevent
 s/eventdetail/1192/-/30-jedesheimer-jubilaeums-jugendturnier?Itemid=10&amp;
 tmpl=component
X-ALT-DESC;FMTTYPE=text/html:<p>Beschreibung des Events : Schirmherr: 1. Bürgermeister der Stadt Illerti
 ssen Jürgen Eisen<br /><br />Ort: Gemeindehalle Jedesheim, Am Anger 10A, 89
 257 Illertissen<br />Anfahrt mit dem Auto: BAB A7 (Ulm - Memmingen), AA Ill
 ertissen<br />Anfahrt mit dem Zug: Bahnhof Illertissen (Abholdienst möglich
 )<br /><br />Termin: Sonntag, 28. Juni 2026 10.00 – 17.00 Uhr, Einschreibun
 g am Spieltag: 9.00 – 9.45 Uhr <br /><br />Altersklassen: U18 (Jahrgang 200
 8 und 2009) U12 (Jahrgang 2014 und 2015)<br />U16 (Jahrgang 2010 und 2011) 
 U10 (Jahrgang 2016 und 2017)<br />U14 (Jahrgang 2012 und 2013) U 8 (Jahrgan
 g 2018 und jünger)<br /><br />Neu: Über 18: Offen für Alle - Betreuer, ehem
 alige Teilnehmer<br /><br />Modus: 7 Runden CH-System – 12 min + 3 sec. Sch
 nellschach<br /><br />Startgeld: 10 € bei Voranmeldung, 12 € ohne Voranmeld
 ung am Sonntag<br />Überweisung: IBAN: DE11630901000716480018, BIC: ULMVDE6
 6<br /><br />Preise: Pokale für die für die jeweiligen Sieger, Sachpreise f
 ür alle Teilnehmer<br /><br />Info: Bernhard Jehle, Tel. 07309-7999, Mail a
 n: <joomla-hidden-mail  is-link="1" is-email="1" first="YmVybmhhcmQ=" last=
 "Y2hlc3N3YXJlLmRl" text="YmVybmhhcmRAY2hlc3N3YXJlLmRl" base="" >Diese E-Mai
 l-Adresse ist vor Spambots geschützt! Zur Anzeige muss JavaScript eingescha
 ltet sein.</joomla-hidden-mail> oder auf unserer Homepage: www.schach-jedes
 heim.de<br /><br /><strong>Gäste: Georgios Souleidis – The Big Greek </stro
 ng>Internationaler Schachmeister, YouTuber, Content Creator und leidenschaf
 tlicher Botschafter des königlichen Spiels. <br /><strong>GM Artur Jussupow
 </strong>: Schachgroßmeister und Autor der Tigersprung-Serie <br /><br /></
 p> <a href="https://www.svw.info/component/jevents/eventdetail/1192/-/30-je
 desheimer-jubilaeums-jugendturnier?Itemid=10&amp;tmpl=component">Dieser Eve
 nt wurde importiert von: https://www.svw.info/component/jevents/eventdetail
 /1192/-/30-jedesheimer-jubilaeums-jugendturnier?Itemid=10&amp;tmpl=componen
 t</a>CONTACT:Diese E-Mail-Adresse ist vor Spambots geschützt! Zur Anzeige muss JavaScript eingeschaltet sein.
DTSTAMP:20260421T201940
DTSTART;TZID=Europe/Berlin;VALUE=DATE:20260628
DTEND;TZID=Europe/Berlin;VALUE=DATE:20260629
SEQUENCE:0
TRANSP:OPAQUE
END:VEVENT
END:VCALENDAR