BEGIN:VCALENDAR
VERSION:2.0
PRODID:-//jEvents 2.0 for Joomla//EN
CALSCALE:GREGORIAN
METHOD:PUBLISH
BEGIN:VTIMEZONE
TZID:Europe/Berlin
BEGIN:STANDARD
DTSTART:20251026T020000
RDATE:20260329T030000
TZOFFSETFROM:+0200
TZOFFSETTO:+0100
TZNAME:Europe/Berlin CET
END:STANDARD
BEGIN:STANDARD
DTSTART:20261025T020000
RDATE:20270328T030000
TZOFFSETFROM:+0200
TZOFFSETTO:+0100
TZNAME:Europe/Berlin CET
END:STANDARD
BEGIN:STANDARD
DTSTART:20271031T020000
RDATE:20280326T030000
TZOFFSETFROM:+0200
TZOFFSETTO:+0100
TZNAME:Europe/Berlin CET
END:STANDARD
BEGIN:STANDARD
DTSTART:20281029T020000
RDATE:20290325T030000
TZOFFSETFROM:+0200
TZOFFSETTO:+0100
TZNAME:Europe/Berlin CET
END:STANDARD
BEGIN:STANDARD
DTSTART:20291028T020000
RDATE:20300331T030000
TZOFFSETFROM:+0200
TZOFFSETTO:+0100
TZNAME:Europe/Berlin CET
END:STANDARD
BEGIN:STANDARD
DTSTART:20301027T020000
RDATE:20310330T030000
TZOFFSETFROM:+0200
TZOFFSETTO:+0100
TZNAME:Europe/Berlin CET
END:STANDARD
BEGIN:STANDARD
DTSTART:20311026T020000
RDATE:20320328T030000
TZOFFSETFROM:+0200
TZOFFSETTO:+0100
TZNAME:Europe/Berlin CET
END:STANDARD
BEGIN:DAYLIGHT
DTSTART:20250821T000000
RDATE:20251026T020000
TZOFFSETFROM:+0100
TZOFFSETTO:+0200
TZNAME:Europe/Berlin CEST
END:DAYLIGHT
BEGIN:DAYLIGHT
DTSTART:20260329T030000
RDATE:20261025T020000
TZOFFSETFROM:+0100
TZOFFSETTO:+0200
TZNAME:Europe/Berlin CEST
END:DAYLIGHT
BEGIN:DAYLIGHT
DTSTART:20270328T030000
RDATE:20271031T020000
TZOFFSETFROM:+0100
TZOFFSETTO:+0200
TZNAME:Europe/Berlin CEST
END:DAYLIGHT
BEGIN:DAYLIGHT
DTSTART:20280326T030000
RDATE:20281029T020000
TZOFFSETFROM:+0100
TZOFFSETTO:+0200
TZNAME:Europe/Berlin CEST
END:DAYLIGHT
BEGIN:DAYLIGHT
DTSTART:20290325T030000
RDATE:20291028T020000
TZOFFSETFROM:+0100
TZOFFSETTO:+0200
TZNAME:Europe/Berlin CEST
END:DAYLIGHT
BEGIN:DAYLIGHT
DTSTART:20300331T030000
RDATE:20301027T020000
TZOFFSETFROM:+0100
TZOFFSETTO:+0200
TZNAME:Europe/Berlin CEST
END:DAYLIGHT
BEGIN:DAYLIGHT
DTSTART:20310330T030000
RDATE:20311026T020000
TZOFFSETFROM:+0100
TZOFFSETTO:+0200
TZNAME:Europe/Berlin CEST
END:DAYLIGHT
END:VTIMEZONE
BEGIN:VEVENT
UID:3c794f0dd0bb595ed22924efaebe0e5b
CATEGORIES:Vereine
CREATED:20260419T142855
SUMMARY:42. Seniorenturnier 2026 der SG Vaihingen / Rohr
LOCATION:Dürrlewangstr. 65 B\, 70565 Stuttgart-Rohr
URL;VALUE=URI:https://www.svw.info/component/jevents/eventdetail/1191/-/42-seniorenturnie
 r-2026-der-sg-vaihingen-rohr?Itemid=10&amp;tmpl=component
DESCRIPTION:Veranstalter : Schachgemeinschaft Vaihingen/Rohr\nBeschreibung des Events :
  42. S e n i o r e n - S c h a c h t u r n i e r der Schachgemeinschaft Vai
 hingen / Rohr e.V.\nTeilnahmeberechtigt : Herren ab 50 (JG 1976) und älter,
  Damen ab 50 (JG 1976) und älter\nAnmeldung : Maximal 46 Teilnehmer, es zäh
 lt die Reihenfolge der Anmeldung, evtl. Abmeldungen bis 3 Tage vor Turnierb
 eginn.\nTermine : Begrüßung am 22. August 2026 um 13:30 Uhr, Beginn der 1.R
 unde um 14:00 Uhr, Beginn der 2. bis 6. Runde täglich 14:00 Uhr, Beginn der
  7. Runde bereits ab 10:00 Uhr wegen Siegerehrung. Preisverteilung am Freit
 ag nach der letzten Runde - Preisgelder werden nur vor Ort vergeben.\nSpiel
 ort : Im eigenen Vereinsheim mit Bewirtung, Dürrlewangstr. 65 B, 70565 Stut
 tgart-Rohr, Tel. 0711 749585, Parkplätze sind vorhanden\nModus : 7 Runden S
 chweizer System, 90 Minuten + 30 Minuten + 30 Sek pro Zug, Wartezeit 60 Min
 uten; Bei Punktgleichheit entscheidet die Buchholzwertung (1 Streichwertung
 ).\nDas Turnier wird DWZ ausgewertet.\nStartgeld : 40,00 € - zahlbar vor Or
 t zu Beginn des Turniers\nPreise : 200,00 €, 180,00 €, 160,00 €, 140,00 €, 
 120,00 €, 100,00 €, 80,00 €, 60,00 €, Je 60,00 € für die besten Teilnehmer 
 DWZ \nLink zur Ausschreibung (https://sg-vaihingenrohr.de/2026/01/04/senior
 enturnier-2026/#more-17998)\n Dieser Event wurde importiert von: https://ww
 w.svw.info/component/jevents/eventdetail/1191/-/42-seniorenturnier-2026-der
 -sg-vaihingen-rohr?Itemid=10&amp;tmpl=component
X-ALT-DESC;FMTTYPE=text/html:<p><strong>Veranstalter</strong> : Schachgemeinschaft Vaihingen/Rohr<br /><
 strong>Beschreibung</strong> des Events : 42. S e n i o r e n - S c h a c h
  t u r n i e r der Schachgemeinschaft Vaihingen / Rohr e.V.<br /><strong>Te
 ilnahmeberechtigt</strong> : Herren ab 50 (JG 1976) und älter, Damen ab 50 
 (JG 1976) und älter<br /><strong>Anmeldung</strong> : Maximal 46 Teilnehmer
 , es zählt die Reihenfolge der Anmeldung, evtl. Abmeldungen bis 3 Tage vor 
 Turnierbeginn.<br /><strong>Termine</strong> : Begrüßung am 22. August 2026
  um 13:30 Uhr, Beginn der 1.Runde um 14:00 Uhr, Beginn der 2. bis 6. Runde 
 täglich 14:00 Uhr, Beginn der 7. Runde bereits ab 10:00 Uhr wegen Siegerehr
 ung. Preisverteilung am Freitag nach der letzten Runde - Preisgelder werden
  nur vor Ort vergeben.<br /><strong>Spielort</strong> : Im eigenen Vereinsh
 eim mit Bewirtung, Dürrlewangstr. 65 B, 70565 Stuttgart-Rohr, Tel. 0711 749
 585, Parkplätze sind vorhanden<br /><strong>Modus</strong> : 7 Runden Schwe
 izer System, 90 Minuten + 30 Minuten + 30 Sek pro Zug, Wartezeit 60 Minuten
 ; Bei Punktgleichheit entscheidet die Buchholzwertung (1 Streichwertung).<b
 r />Das Turnier wird DWZ ausgewertet.<br /><strong>Startgeld</strong> : 40,
 00 € - zahlbar vor Ort zu Beginn des Turniers<br /><strong>Preise</strong> 
 : 200,00 €, 180,00 €, 160,00 €, 140,00 €, 120,00 €, 100,00 €, 80,00 €, 60,0
 0 €, Je 60,00 € für die besten Teilnehmer DWZ <br />Link zur <a href="https
 ://sg-vaihingenrohr.de/2026/01/04/seniorenturnier-2026/#more-17998" target=
 "_blank" rel="noopener"><strong>Ausschreibung</strong></a></p> <a href="htt
 ps://www.svw.info/component/jevents/eventdetail/1191/-/42-seniorenturnier-2
 026-der-sg-vaihingen-rohr?Itemid=10&amp;tmpl=component">Dieser Event wurde 
 importiert von: https://www.svw.info/component/jevents/eventdetail/1191/-/4
 2-seniorenturnier-2026-der-sg-vaihingen-rohr?Itemid=10&amp;tmpl=component</
 a>CONTACT:Diese E-Mail-Adresse ist vor Spambots geschützt! Zur Anzeige muss JavaScript eingeschaltet sein.
DTSTAMP:20260421T233547
DTSTART;TZID=Europe/Berlin;VALUE=DATE:20260822
DTEND;TZID=Europe/Berlin;VALUE=DATE:20260829
SEQUENCE:0
TRANSP:OPAQUE
END:VEVENT
END:VCALENDAR