BEGIN:VCALENDAR
VERSION:2.0
PRODID:-//jEvents 2.0 for Joomla//EN
CALSCALE:GREGORIAN
METHOD:PUBLISH
BEGIN:VTIMEZONE
TZID:Europe/Berlin
BEGIN:STANDARD
DTSTART:20251026T020000
RDATE:20260329T030000
TZOFFSETFROM:+0200
TZOFFSETTO:+0100
TZNAME:Europe/Berlin CET
END:STANDARD
BEGIN:STANDARD
DTSTART:20261025T020000
RDATE:20270328T030000
TZOFFSETFROM:+0200
TZOFFSETTO:+0100
TZNAME:Europe/Berlin CET
END:STANDARD
BEGIN:STANDARD
DTSTART:20271031T020000
RDATE:20280326T030000
TZOFFSETFROM:+0200
TZOFFSETTO:+0100
TZNAME:Europe/Berlin CET
END:STANDARD
BEGIN:STANDARD
DTSTART:20281029T020000
RDATE:20290325T030000
TZOFFSETFROM:+0200
TZOFFSETTO:+0100
TZNAME:Europe/Berlin CET
END:STANDARD
BEGIN:STANDARD
DTSTART:20291028T020000
RDATE:20300331T030000
TZOFFSETFROM:+0200
TZOFFSETTO:+0100
TZNAME:Europe/Berlin CET
END:STANDARD
BEGIN:STANDARD
DTSTART:20301027T020000
RDATE:20310330T030000
TZOFFSETFROM:+0200
TZOFFSETTO:+0100
TZNAME:Europe/Berlin CET
END:STANDARD
BEGIN:STANDARD
DTSTART:20311026T020000
RDATE:20320328T030000
TZOFFSETFROM:+0200
TZOFFSETTO:+0100
TZNAME:Europe/Berlin CET
END:STANDARD
BEGIN:DAYLIGHT
DTSTART:20250619T000000
RDATE:20251026T020000
TZOFFSETFROM:+0100
TZOFFSETTO:+0200
TZNAME:Europe/Berlin CEST
END:DAYLIGHT
BEGIN:DAYLIGHT
DTSTART:20260329T030000
RDATE:20261025T020000
TZOFFSETFROM:+0100
TZOFFSETTO:+0200
TZNAME:Europe/Berlin CEST
END:DAYLIGHT
BEGIN:DAYLIGHT
DTSTART:20270328T030000
RDATE:20271031T020000
TZOFFSETFROM:+0100
TZOFFSETTO:+0200
TZNAME:Europe/Berlin CEST
END:DAYLIGHT
BEGIN:DAYLIGHT
DTSTART:20280326T030000
RDATE:20281029T020000
TZOFFSETFROM:+0100
TZOFFSETTO:+0200
TZNAME:Europe/Berlin CEST
END:DAYLIGHT
BEGIN:DAYLIGHT
DTSTART:20290325T030000
RDATE:20291028T020000
TZOFFSETFROM:+0100
TZOFFSETTO:+0200
TZNAME:Europe/Berlin CEST
END:DAYLIGHT
BEGIN:DAYLIGHT
DTSTART:20300331T030000
RDATE:20301027T020000
TZOFFSETFROM:+0100
TZOFFSETTO:+0200
TZNAME:Europe/Berlin CEST
END:DAYLIGHT
BEGIN:DAYLIGHT
DTSTART:20310330T030000
RDATE:20311026T020000
TZOFFSETFROM:+0100
TZOFFSETTO:+0200
TZNAME:Europe/Berlin CEST
END:DAYLIGHT
END:VTIMEZONE
BEGIN:VEVENT
UID:47702cd03fa8ad1b7638741a87b48c76
CATEGORIES:Vereine & Sonstige
CREATED:20260111T235911
SUMMARY:BAM / BJPT / SSGT (Badischer Schachverband)
LOCATION:Gemeinschaftsschule Althengstett\, Schulstraße 9 – 15\, 75382 Althengstett
URL;VALUE=URI:https://www.svw.info/component/jevents/eventdetail/1137/-/bam-bjpt-ssgt-bad
 ischer-schachverband?Itemid=10&amp;tmpl=component
DESCRIPTION:BAM (https://www.badischer-schachverband.de/offizielles/pdf/bsv-1004.pdf) /
  BJPT (https://www.badischer-schachverband.de/offizielles/pdf/bsv-1006.pdf)
  / SSGT  (https://www.badischer-schachverband.de/offizielles/pdf/bsv-1005.p
 df)\nSV Ottenbronn in Althengstett\nAnmeldeschluß BAM, BJPT und SSGT 9:00 U
 hr\n Dieser Event wurde importiert von: https://www.svw.info/component/jeve
 nts/eventdetail/1137/-/bam-bjpt-ssgt-badischer-schachverband?Itemid=10&amp;
 tmpl=component
X-ALT-DESC;FMTTYPE=text/html:<p><a href="https://www.badischer-schachverband.de/offizielles/pdf/bsv-1004
 .pdf">BAM</a> / <a href="https://www.badischer-schachverband.de/offizielles
 /pdf/bsv-1006.pdf">BJPT</a> / <a href="https://www.badischer-schachverband.
 de/offizielles/pdf/bsv-1005.pdf">SSGT </a></p><p>SV Ottenbronn in Althengst
 ett</p><p>Anmeldeschluß BAM, BJPT und SSGT 9:00 Uhr</p> <a href="https://ww
 w.svw.info/component/jevents/eventdetail/1137/-/bam-bjpt-ssgt-badischer-sch
 achverband?Itemid=10&amp;tmpl=component">Dieser Event wurde importiert von:
  https://www.svw.info/component/jevents/eventdetail/1137/-/bam-bjpt-ssgt-ba
 discher-schachverband?Itemid=10&amp;tmpl=component</a>DTSTAMP:20260421T190046
DTSTART;TZID=Europe/Berlin;VALUE=DATE:20260620
DTEND;TZID=Europe/Berlin;VALUE=DATE:20260621
SEQUENCE:0
TRANSP:OPAQUE
END:VEVENT
END:VCALENDAR