BEGIN:VCALENDAR
VERSION:2.0
PRODID:-//jEvents 2.0 for Joomla//EN
CALSCALE:GREGORIAN
METHOD:PUBLISH
BEGIN:VTIMEZONE
TZID:Europe/Berlin
BEGIN:STANDARD
DTSTART:20251026T020000
RDATE:20260329T030000
TZOFFSETFROM:+0200
TZOFFSETTO:+0100
TZNAME:Europe/Berlin CET
END:STANDARD
BEGIN:STANDARD
DTSTART:20261025T020000
RDATE:20270328T030000
TZOFFSETFROM:+0200
TZOFFSETTO:+0100
TZNAME:Europe/Berlin CET
END:STANDARD
BEGIN:STANDARD
DTSTART:20271031T020000
RDATE:20280326T030000
TZOFFSETFROM:+0200
TZOFFSETTO:+0100
TZNAME:Europe/Berlin CET
END:STANDARD
BEGIN:STANDARD
DTSTART:20281029T020000
RDATE:20290325T030000
TZOFFSETFROM:+0200
TZOFFSETTO:+0100
TZNAME:Europe/Berlin CET
END:STANDARD
BEGIN:STANDARD
DTSTART:20291028T020000
RDATE:20300331T030000
TZOFFSETFROM:+0200
TZOFFSETTO:+0100
TZNAME:Europe/Berlin CET
END:STANDARD
BEGIN:STANDARD
DTSTART:20301027T020000
RDATE:20310330T030000
TZOFFSETFROM:+0200
TZOFFSETTO:+0100
TZNAME:Europe/Berlin CET
END:STANDARD
BEGIN:STANDARD
DTSTART:20311026T020000
RDATE:20320328T030000
TZOFFSETFROM:+0200
TZOFFSETTO:+0100
TZNAME:Europe/Berlin CET
END:STANDARD
BEGIN:DAYLIGHT
DTSTART:20250509T000000
RDATE:20251026T020000
TZOFFSETFROM:+0100
TZOFFSETTO:+0200
TZNAME:Europe/Berlin CEST
END:DAYLIGHT
BEGIN:DAYLIGHT
DTSTART:20260329T030000
RDATE:20261025T020000
TZOFFSETFROM:+0100
TZOFFSETTO:+0200
TZNAME:Europe/Berlin CEST
END:DAYLIGHT
BEGIN:DAYLIGHT
DTSTART:20270328T030000
RDATE:20271031T020000
TZOFFSETFROM:+0100
TZOFFSETTO:+0200
TZNAME:Europe/Berlin CEST
END:DAYLIGHT
BEGIN:DAYLIGHT
DTSTART:20280326T030000
RDATE:20281029T020000
TZOFFSETFROM:+0100
TZOFFSETTO:+0200
TZNAME:Europe/Berlin CEST
END:DAYLIGHT
BEGIN:DAYLIGHT
DTSTART:20290325T030000
RDATE:20291028T020000
TZOFFSETFROM:+0100
TZOFFSETTO:+0200
TZNAME:Europe/Berlin CEST
END:DAYLIGHT
BEGIN:DAYLIGHT
DTSTART:20300331T030000
RDATE:20301027T020000
TZOFFSETFROM:+0100
TZOFFSETTO:+0200
TZNAME:Europe/Berlin CEST
END:DAYLIGHT
BEGIN:DAYLIGHT
DTSTART:20310330T030000
RDATE:20311026T020000
TZOFFSETFROM:+0100
TZOFFSETTO:+0200
TZNAME:Europe/Berlin CEST
END:DAYLIGHT
END:VTIMEZONE
BEGIN:VEVENT
UID:2f902849d823d2d4efdad63706a7ab24
CATEGORIES:Württembergische Turnierserien, WTS Bezirk Stuttgart
CREATED:20260111T235453
SUMMARY:WAM
LOCATION:Klosterstraße 8\, 73765 Neuhausen a.d.F.
URL;VALUE=URI:https://www.svw.info/component/jevents/eventdetail/1133/-/wam?Itemid=10&amp
 ;tmpl=component
DESCRIPTION:WAM (images/stories/wts/wam/2025-26/20260510_WAM_des_SC_Sillenbuch_in_Neuha
 usen_am_10.05.2026.pdf) des SC Sillenbuch 1948 e.V.\nWo: Klosterstraße 8, 7
 3765 Neuhausen a.d.F.\nMeldeschluss um 8:45 Uhr\n Dieser Event wurde import
 iert von: https://www.svw.info/component/jevents/eventdetail/1133/-/wam?Ite
 mid=10&amp;tmpl=component
X-ALT-DESC;FMTTYPE=text/html:<p><a href="https://www.svw.info/images/stories/wts/wam/2025-26/20260510_WA
 M_des_SC_Sillenbuch_in_Neuhausen_am_10.05.2026.pdf">WAM</a> des SC Sillenbu
 ch 1948 e.V.</p><p>Wo: Klosterstraße 8, 73765 Neuhausen a.d.F.</p><p>Meldes
 chluss um 8:45 Uhr</p> <a href="https://www.svw.info/component/jevents/even
 tdetail/1133/-/wam?Itemid=10&amp;tmpl=component">Dieser Event wurde importi
 ert von: https://www.svw.info/component/jevents/eventdetail/1133/-/wam?Item
 id=10&amp;tmpl=component</a>DTSTAMP:20260423T124940
DTSTART;TZID=Europe/Berlin;VALUE=DATE:20260510
DTEND;TZID=Europe/Berlin;VALUE=DATE:20260511
SEQUENCE:0
TRANSP:OPAQUE
END:VEVENT
END:VCALENDAR